BEGIN:VCALENDAR
VERSION:2.0
PRODID:-//Le Vaudoué - ECPv5.8.1//NONSGML v1.0//EN
CALSCALE:GREGORIAN
METHOD:PUBLISH
X-WR-CALNAME:Le Vaudoué
X-ORIGINAL-URL:https://www.levaudoue.fr
X-WR-CALDESC:évènements pour Le Vaudoué
BEGIN:VTIMEZONE
TZID:Europe/Paris
BEGIN:DAYLIGHT
TZOFFSETFROM:+0100
TZOFFSETTO:+0200
TZNAME:CEST
DTSTART:20260329T010000
END:DAYLIGHT
BEGIN:STANDARD
TZOFFSETFROM:+0200
TZOFFSETTO:+0100
TZNAME:CET
DTSTART:20261025T010000
END:STANDARD
END:VTIMEZONE
BEGIN:VEVENT
DTSTART;TZID=Europe/Paris:20260113T080000
DTEND;TZID=Europe/Paris:20260113T170000
DTSTAMP:20260425T031101
CREATED:20260107T182657Z
LAST-MODIFIED:20260107T182752Z
UID:120103-1768291200-1768323600@www.levaudoue.fr
SUMMARY:Collecte des sapins de Noël (les déposer la veille)
DESCRIPTION:Les agents techniques du Vaudoué procèderont à la collecte des sapins de Noël le mardi 13 janvier 2026. \nPensez à déposer vos sapins la veille sur le trottoir.
URL:https://www.levaudoue.fr/event/collecte-des-sapins-de-noel-les-deposer-la-veille-2/
END:VEVENT
END:VCALENDAR