BEGIN:VCALENDAR
VERSION:2.0
PRODID:-//Le Vaudoué - ECPv5.8.1//NONSGML v1.0//EN
CALSCALE:GREGORIAN
METHOD:PUBLISH
X-WR-CALNAME:Le Vaudoué
X-ORIGINAL-URL:https://www.levaudoue.fr
X-WR-CALDESC:évènements pour Le Vaudoué
BEGIN:VTIMEZONE
TZID:Europe/Paris
BEGIN:DAYLIGHT
TZOFFSETFROM:+0100
TZOFFSETTO:+0200
TZNAME:CEST
DTSTART:20220327T010000
END:DAYLIGHT
BEGIN:STANDARD
TZOFFSETFROM:+0200
TZOFFSETTO:+0100
TZNAME:CET
DTSTART:20221030T010000
END:STANDARD
END:VTIMEZONE
BEGIN:VEVENT
DTSTART;TZID=Europe/Paris:20220623T180000
DTEND;TZID=Europe/Paris:20220625T223000
DTSTAMP:20260419T190545
CREATED:20220510T060320Z
LAST-MODIFIED:20220623T101055Z
UID:113688-1656007200-1656196200@www.levaudoue.fr
SUMMARY:Festival DJANGO REINHARDT PAYS DE FONTAINEBLEAU
DESCRIPTION:  \n  \nLe Festival Django Reinhardt est de retour en 2022 pour sa 43ème édition\, du 23 au 26 juin 2022 dans le Parc du château de Fontainebleau ! \nUne expérience de jazz inoubliable.
URL:https://www.levaudoue.fr/event/festival-django-reinhardt-pays-de-fontainebleau/
END:VEVENT
END:VCALENDAR