BEGIN:VCALENDAR
VERSION:2.0
PRODID:-//Le Vaudoué - ECPv5.8.1//NONSGML v1.0//EN
CALSCALE:GREGORIAN
METHOD:PUBLISH
X-WR-CALNAME:Le Vaudoué
X-ORIGINAL-URL:https://www.levaudoue.fr
X-WR-CALDESC:évènements pour Le Vaudoué
BEGIN:VTIMEZONE
TZID:Europe/Paris
BEGIN:DAYLIGHT
TZOFFSETFROM:+0100
TZOFFSETTO:+0200
TZNAME:CEST
DTSTART:20260329T010000
END:DAYLIGHT
BEGIN:STANDARD
TZOFFSETFROM:+0200
TZOFFSETTO:+0100
TZNAME:CET
DTSTART:20261025T010000
END:STANDARD
END:VTIMEZONE
BEGIN:VEVENT
DTSTART;TZID=Europe/Paris:20260309T140000
DTEND;TZID=Europe/Paris:20260309T170000
DTSTAMP:20260426T001712
CREATED:20260114T180735Z
LAST-MODIFIED:20260213T142726Z
UID:120188-1773064800-1773075600@www.levaudoue.fr
SUMMARY:La course de cyclisme Paris - Nice passe au Vaudoué
DESCRIPTION:Le 9 mars\, la 2ème étape de la 84ème édition du Paris-Nice arrivera au Vaudoué par la départementale venant de Milly-la-Forêt et traversera Le Vaudoué par la rue de l’Ermitage. \nLe stationnement sera interdit sur une partie du parcours. \nVenez acclamer les coureurs qui devraient passer au Vaudoué à partir 15h/15h30 selon les prévisions ci-jointes (cliquer ICI). \n 
URL:https://www.levaudoue.fr/event/la-course-de-cyclisme-paris-nice-passe-au-vaudoue/
LOCATION:Le Vaudoué\, Parkings de la Mée et du Rocher Cailleau\, Le Vaudoué\, 77123\, France
END:VEVENT
END:VCALENDAR